BEGIN:VCALENDAR
VERSION:2.0
PRODID:-//GIFT SCHOOL Ventabren, Pays d&#039;Aix-en-Provence - ECPv6.2.2//NONSGML v1.0//EN
CALSCALE:GREGORIAN
METHOD:PUBLISH
X-WR-CALNAME:GIFT SCHOOL Ventabren, Pays d&#039;Aix-en-Provence
X-ORIGINAL-URL:https://gift-school.fr
X-WR-CALDESC:évènements pour GIFT SCHOOL Ventabren, Pays d&#039;Aix-en-Provence
REFRESH-INTERVAL;VALUE=DURATION:PT1H
X-Robots-Tag:noindex
X-PUBLISHED-TTL:PT1H
BEGIN:VTIMEZONE
TZID:Europe/Paris
BEGIN:DAYLIGHT
TZOFFSETFROM:+0100
TZOFFSETTO:+0200
TZNAME:CEST
DTSTART:20240331T010000
END:DAYLIGHT
BEGIN:STANDARD
TZOFFSETFROM:+0200
TZOFFSETTO:+0100
TZNAME:CET
DTSTART:20241027T010000
END:STANDARD
END:VTIMEZONE
BEGIN:VEVENT
DTSTART;TZID=Europe/Paris:20241004T080000
DTEND;TZID=Europe/Paris:20241004T093000
DTSTAMP:20260420T053642
CREATED:20231005T093841Z
LAST-MODIFIED:20240818T142246Z
UID:3469-1728028800-1728034200@gift-school.fr
SUMMARY:☕ Coffee Morning ☕
DESCRIPTION:
URL:https://gift-school.fr/event/%e2%98%95-coffee-morning-%e2%98%95-2/
CATEGORIES:Parents Only
END:VEVENT
BEGIN:VEVENT
DTSTART;TZID=Europe/Paris:20241012T093000
DTEND;TZID=Europe/Paris:20241012T130000
DTSTAMP:20260420T053642
CREATED:20241004T135649Z
LAST-MODIFIED:20241004T151202Z
UID:3752-1728725400-1728738000@gift-school.fr
SUMMARY:👩‍👦👨‍👧🏃🏻 Randonnée Familiale 👩‍👦👨‍👧🏃🏻
DESCRIPTION:Vous êtes invités à venir randonner avec les familles de l’école. L’occasion de rencontrer d’autres familles de l’école mais aussi de découvrir le chemin de randonnée emprunté par les enfants une fois par mois… de découvrir “leur” forêt adorée ! \nRendez-vous à 9h30 non pas à l’école mais ici\, au “parking canal Ventabren” tel que le point est indiqué sur Google Maps. L’accès est très facile\, seulement une petite minute de trajet de plus (continuer après l’école\, traverser le pont au-dessus du canal et longer le canal jusqu’au parking).\n\nPensez à bien apporter les déjeuners pour pique-niquer tous ensemble. Pour rappel\, les enfants seront sous l’entière responsabilité de leurs parents lors de cette randonnée. Cette randonnée est accessible à tous les âges.\nJoin us for a Saturday morning walk in the forest near the Gift School. A great opportunity to meet other families but also to discover the walk that your children do once a month… to discover “their” favorite forest! \nMeet us at 9:30 not at school but at here at the “parking canal Ventabren” as indicated on Google maps. Easy access from school\, less than a minute’s drive past school on our street. \n\nBring picnic lunches and remember that your children will be under your responsability during this walk. This walk is accessible to all ages. 
URL:https://gift-school.fr/event/%f0%9f%91%a9%f0%9f%91%a6%f0%9f%91%a8%f0%9f%91%a7%f0%9f%8f%83%f0%9f%8f%bb-randonnee-familiale-%f0%9f%91%a9%f0%9f%91%a6%f0%9f%91%a8%f0%9f%91%a7%f0%9f%8f%83/
END:VEVENT
END:VCALENDAR