BEGIN:VCALENDAR
VERSION:2.0
PRODID:-//GIFT SCHOOL Ventabren, Pays d&#039;Aix-en-Provence - ECPv6.2.2//NONSGML v1.0//EN
CALSCALE:GREGORIAN
METHOD:PUBLISH
X-WR-CALNAME:GIFT SCHOOL Ventabren, Pays d&#039;Aix-en-Provence
X-ORIGINAL-URL:https://gift-school.fr
X-WR-CALDESC:évènements pour GIFT SCHOOL Ventabren, Pays d&#039;Aix-en-Provence
REFRESH-INTERVAL;VALUE=DURATION:PT1H
X-Robots-Tag:noindex
X-PUBLISHED-TTL:PT1H
BEGIN:VTIMEZONE
TZID:Europe/Paris
BEGIN:DAYLIGHT
TZOFFSETFROM:+0100
TZOFFSETTO:+0200
TZNAME:CEST
DTSTART:20240331T010000
END:DAYLIGHT
BEGIN:STANDARD
TZOFFSETFROM:+0200
TZOFFSETTO:+0100
TZNAME:CET
DTSTART:20241027T010000
END:STANDARD
END:VTIMEZONE
BEGIN:VEVENT
DTSTART;TZID=Europe/Paris:20240410T140000
DTEND;TZID=Europe/Paris:20240410T180000
DTSTAMP:20260420T141105
CREATED:20230915T074000Z
LAST-MODIFIED:20230915T074000Z
UID:3407-1712757600-1712772000@gift-school.fr
SUMMARY:🏫 Après midi Portes Ouvertes 🏫
DESCRIPTION:Invitez vos amis à venir découvrir la Gift School et les bienfaits d’une éducation bienveillante\, bilingue\, éco-citoyenne et positive.
URL:https://gift-school.fr/event/%f0%9f%8f%ab-apres-midi-portes-ouvertes-%f0%9f%8f%ab/
CATEGORIES:Tous
END:VEVENT
BEGIN:VEVENT
DTSTART;TZID=Europe/Paris:20240412T173000
DTEND;TZID=Europe/Paris:20240412T183000
DTSTAMP:20260420T141105
CREATED:20230915T074119Z
LAST-MODIFIED:20230915T074119Z
UID:3409-1712943000-1712946600@gift-school.fr
SUMMARY:🌳 5ème réunion éco-comité 🌳
DESCRIPTION:
URL:https://gift-school.fr/event/%f0%9f%8c%b3-5eme-reunion-eco-comite-%f0%9f%8c%b3/
CATEGORIES:Tous
END:VEVENT
BEGIN:VEVENT
DTSTART;TZID=Europe/Paris:20240413T100000
DTEND;TZID=Europe/Paris:20240413T110000
DTSTAMP:20260420T141105
CREATED:20230915T074221Z
LAST-MODIFIED:20240109T112723Z
UID:3411-1713002400-1713006000@gift-school.fr
SUMMARY:🙏 Yoga des Minots
DESCRIPTION:Inscriptions auprès de Laura\, communications.giftschool@gmail.com ou de Léa\, lea.venier@gift-school.fr Yoga en duo Parent/Enfant €25/atelier
URL:https://gift-school.fr/event/%f0%9f%99%8f-yoga-des-minots-avec-lea-8/
CATEGORIES:Tous
END:VEVENT
BEGIN:VEVENT
DTSTART;VALUE=DATE:20240416
DTEND;VALUE=DATE:20240417
DTSTAMP:20260420T141105
CREATED:20230915T074256Z
LAST-MODIFIED:20230915T074256Z
UID:3413-1713225600-1713311999@gift-school.fr
SUMMARY:🚶 Randonnée 🚶
DESCRIPTION:
URL:https://gift-school.fr/event/%f0%9f%9a%b6-randonnee-%f0%9f%9a%b6-7/
CATEGORIES:Tous
END:VEVENT
BEGIN:VEVENT
DTSTART;TZID=Europe/Paris:20240416T190000
DTEND;TZID=Europe/Paris:20240416T210000
DTSTAMP:20260420T141105
CREATED:20230915T074426Z
LAST-MODIFIED:20230915T074426Z
UID:3415-1713294000-1713301200@gift-school.fr
SUMMARY:Cycle Parentalité avec Célie Dabry 7/8
DESCRIPTION:Atelier avec Célie Dabry www.celiedabry.fr. Réservé exclusivement aux parents de la Gift School Inscrivez vous : https://chat.whatsapp.com/FPLZGoY9V7yIvUNM4vv3dU
URL:https://gift-school.fr/event/cycle-parentalite-avec-celie-dabry-7-8/
CATEGORIES:Parents Only
END:VEVENT
END:VCALENDAR