BEGIN:VCALENDAR
VERSION:2.0
PRODID:-//GIFT SCHOOL Ventabren, Pays d&#039;Aix-en-Provence - ECPv6.2.2//NONSGML v1.0//EN
CALSCALE:GREGORIAN
METHOD:PUBLISH
X-WR-CALNAME:GIFT SCHOOL Ventabren, Pays d&#039;Aix-en-Provence
X-ORIGINAL-URL:https://gift-school.fr
X-WR-CALDESC:évènements pour GIFT SCHOOL Ventabren, Pays d&#039;Aix-en-Provence
REFRESH-INTERVAL;VALUE=DURATION:PT1H
X-Robots-Tag:noindex
X-PUBLISHED-TTL:PT1H
BEGIN:VTIMEZONE
TZID:Europe/Paris
BEGIN:DAYLIGHT
TZOFFSETFROM:+0100
TZOFFSETTO:+0200
TZNAME:CEST
DTSTART:20240331T010000
END:DAYLIGHT
BEGIN:STANDARD
TZOFFSETFROM:+0200
TZOFFSETTO:+0100
TZNAME:CET
DTSTART:20241027T010000
END:STANDARD
END:VTIMEZONE
BEGIN:VEVENT
DTSTART;TZID=Europe/Paris:20240315T173000
DTEND;TZID=Europe/Paris:20240315T183000
DTSTAMP:20260420T124813
CREATED:20230915T071009Z
LAST-MODIFIED:20230915T071009Z
UID:3388-1710523800-1710527400@gift-school.fr
SUMMARY:🌳 4ème réunion éco-comité 🌳
DESCRIPTION:
URL:https://gift-school.fr/event/%f0%9f%8c%b3-4eme-reunion-eco-comite-%f0%9f%8c%b3/
CATEGORIES:Tous
END:VEVENT
BEGIN:VEVENT
DTSTART;TZID=Europe/Paris:20240316T100000
DTEND;TZID=Europe/Paris:20240316T110000
DTSTAMP:20260420T124813
CREATED:20230915T071126Z
LAST-MODIFIED:20240109T112735Z
UID:3390-1710583200-1710586800@gift-school.fr
SUMMARY:🙏 Yoga des Minots
DESCRIPTION:Inscriptions auprès de Laura\, communications.giftschool@gmail.com ou de Léa\, lea.venier@gift-school.fr Yoga en duo Parent/Enfant \n€25/atelier
URL:https://gift-school.fr/event/%f0%9f%99%8f-yoga-des-minots-avec-lea-7/
CATEGORIES:Tous
END:VEVENT
BEGIN:VEVENT
DTSTART;VALUE=DATE:20240321
DTEND;VALUE=DATE:20240322
DTSTAMP:20260420T124813
CREATED:20230915T071420Z
LAST-MODIFIED:20230915T071420Z
UID:3395-1710979200-1711065599@gift-school.fr
SUMMARY:🌱Journée Int'le des Forêts - Fête du Printemps 🌸
DESCRIPTION:
URL:https://gift-school.fr/event/%f0%9f%8c%b1journee-intle-des-forets-fete-du-printemps-%f0%9f%8c%b8/
CATEGORIES:Tous
END:VEVENT
END:VCALENDAR