BEGIN:VCALENDAR
VERSION:2.0
PRODID:-//GIFT SCHOOL Ventabren, Pays d&#039;Aix-en-Provence - ECPv6.2.2//NONSGML v1.0//EN
CALSCALE:GREGORIAN
METHOD:PUBLISH
X-WR-CALNAME:GIFT SCHOOL Ventabren, Pays d&#039;Aix-en-Provence
X-ORIGINAL-URL:https://gift-school.fr
X-WR-CALDESC:évènements pour GIFT SCHOOL Ventabren, Pays d&#039;Aix-en-Provence
REFRESH-INTERVAL;VALUE=DURATION:PT1H
X-Robots-Tag:noindex
X-PUBLISHED-TTL:PT1H
BEGIN:VTIMEZONE
TZID:Europe/Paris
BEGIN:DAYLIGHT
TZOFFSETFROM:+0100
TZOFFSETTO:+0200
TZNAME:CEST
DTSTART:20250330T010000
END:DAYLIGHT
BEGIN:STANDARD
TZOFFSETFROM:+0200
TZOFFSETTO:+0100
TZNAME:CET
DTSTART:20251026T010000
END:STANDARD
END:VTIMEZONE
BEGIN:VEVENT
DTSTART;VALUE=DATE:20251201
DTEND;VALUE=DATE:20251202
DTSTAMP:20260421T121039
CREATED:20230914T144656Z
LAST-MODIFIED:20250916T123218Z
UID:3335-1764547200-1764633599@gift-school.fr
SUMMARY:👉 Holiday Toy Drive START 🎁
DESCRIPTION:Comme chaque année\, la Gift School organise une collecte de jouets pour les enfants dont les familles sont dans le besoin. Merci d’apporter des jouets en bon état\, complets et non cassés ; ils seront récupérés le dernier jour de la collecte par une représentante de l’association des Restos du Coeur.
URL:https://gift-school.fr/event/%f0%9f%8e%81-holiday-toy-drive-start-%f0%9f%8e%81%f0%9f%91%89/
CATEGORIES:Tous
END:VEVENT
BEGIN:VEVENT
DTSTART;TZID=Europe/Paris:20251201T083000
DTEND;TZID=Europe/Paris:20251201T093000
DTSTAMP:20260421T121039
CREATED:20250908T113248Z
LAST-MODIFIED:20251106T110911Z
UID:3976-1764577800-1764581400@gift-school.fr
SUMMARY:☕ Coffee Morning ☕
DESCRIPTION:
URL:https://gift-school.fr/event/%e2%98%95-coffee-morning-%e2%98%95-14/
END:VEVENT
END:VCALENDAR