BEGIN:VCALENDAR
VERSION:2.0
PRODID:-//GIFT SCHOOL Ventabren, Pays d&#039;Aix-en-Provence - ECPv6.2.2//NONSGML v1.0//EN
CALSCALE:GREGORIAN
METHOD:PUBLISH
X-WR-CALNAME:GIFT SCHOOL Ventabren, Pays d&#039;Aix-en-Provence
X-ORIGINAL-URL:https://gift-school.fr
X-WR-CALDESC:évènements pour GIFT SCHOOL Ventabren, Pays d&#039;Aix-en-Provence
REFRESH-INTERVAL;VALUE=DURATION:PT1H
X-Robots-Tag:noindex
X-PUBLISHED-TTL:PT1H
BEGIN:VTIMEZONE
TZID:Europe/Paris
BEGIN:DAYLIGHT
TZOFFSETFROM:+0100
TZOFFSETTO:+0200
TZNAME:CEST
DTSTART:20250330T010000
END:DAYLIGHT
BEGIN:STANDARD
TZOFFSETFROM:+0200
TZOFFSETTO:+0100
TZNAME:CET
DTSTART:20251026T010000
END:STANDARD
END:VTIMEZONE
BEGIN:VEVENT
DTSTART;TZID=Europe/Paris:20250307T080000
DTEND;TZID=Europe/Paris:20250307T093000
DTSTAMP:20260419T232118
CREATED:20231005T094839Z
LAST-MODIFIED:20240818T142548Z
UID:3481-1741334400-1741339800@gift-school.fr
SUMMARY:☕ Coffee Morning ☕
DESCRIPTION:
URL:https://gift-school.fr/event/%e2%98%95-coffee-morning-%e2%98%95-7/
CATEGORIES:Parents Only
END:VEVENT
END:VCALENDAR