BEGIN:VCALENDAR
VERSION:2.0
PRODID:-//GIFT SCHOOL Ventabren, Pays d&#039;Aix-en-Provence - ECPv6.2.2//NONSGML v1.0//EN
CALSCALE:GREGORIAN
METHOD:PUBLISH
X-WR-CALNAME:GIFT SCHOOL Ventabren, Pays d&#039;Aix-en-Provence
X-ORIGINAL-URL:https://gift-school.fr
X-WR-CALDESC:évènements pour GIFT SCHOOL Ventabren, Pays d&#039;Aix-en-Provence
REFRESH-INTERVAL;VALUE=DURATION:PT1H
X-Robots-Tag:noindex
X-PUBLISHED-TTL:PT1H
BEGIN:VTIMEZONE
TZID:Europe/Paris
BEGIN:DAYLIGHT
TZOFFSETFROM:+0100
TZOFFSETTO:+0200
TZNAME:CEST
DTSTART:20240331T010000
END:DAYLIGHT
BEGIN:STANDARD
TZOFFSETFROM:+0200
TZOFFSETTO:+0100
TZNAME:CET
DTSTART:20241027T010000
END:STANDARD
END:VTIMEZONE
BEGIN:VEVENT
DTSTART;TZID=Europe/Paris:20241108T080000
DTEND;TZID=Europe/Paris:20241108T093000
DTSTAMP:20260420T053749
CREATED:20231005T093959Z
LAST-MODIFIED:20240818T142321Z
UID:3472-1731052800-1731058200@gift-school.fr
SUMMARY:☕ Coffee Morning ☕
DESCRIPTION:
URL:https://gift-school.fr/event/%e2%98%95-coffee-morning-%e2%98%95-3/
CATEGORIES:Parents Only
END:VEVENT
END:VCALENDAR