BEGIN:VCALENDAR
VERSION:2.0
PRODID:-//GIFT SCHOOL Ventabren, Pays d&#039;Aix-en-Provence - ECPv6.2.2//NONSGML v1.0//EN
CALSCALE:GREGORIAN
METHOD:PUBLISH
X-ORIGINAL-URL:https://gift-school.fr
X-WR-CALDESC:évènements pour GIFT SCHOOL Ventabren, Pays d&#039;Aix-en-Provence
REFRESH-INTERVAL;VALUE=DURATION:PT1H
X-Robots-Tag:noindex
X-PUBLISHED-TTL:PT1H
BEGIN:VTIMEZONE
TZID:Europe/Paris
BEGIN:DAYLIGHT
TZOFFSETFROM:+0100
TZOFFSETTO:+0200
TZNAME:CEST
DTSTART:20230326T010000
END:DAYLIGHT
BEGIN:STANDARD
TZOFFSETFROM:+0200
TZOFFSETTO:+0100
TZNAME:CET
DTSTART:20231029T010000
END:STANDARD
END:VTIMEZONE
BEGIN:VEVENT
DTSTART;VALUE=DATE:20231113
DTEND;VALUE=DATE:20231114
DTSTAMP:20260420T234337
CREATED:20230914T143751Z
LAST-MODIFIED:20230914T143751Z
UID:3320-1699833600-1699919999@gift-school.fr
SUMMARY:👢 Odd Socks Day 👢
DESCRIPTION:
URL:https://gift-school.fr/event/%f0%9f%91%a2-odd-socks-day-%f0%9f%91%a2/
CATEGORIES:Tous
END:VEVENT
END:VCALENDAR