BEGIN:VCALENDAR
VERSION:2.0
PRODID:-//GIFT SCHOOL Ventabren, Pays d&#039;Aix-en-Provence - ECPv6.2.2//NONSGML v1.0//EN
CALSCALE:GREGORIAN
METHOD:PUBLISH
X-ORIGINAL-URL:https://gift-school.fr
X-WR-CALDESC:évènements pour GIFT SCHOOL Ventabren, Pays d&#039;Aix-en-Provence
REFRESH-INTERVAL;VALUE=DURATION:PT1H
X-Robots-Tag:noindex
X-PUBLISHED-TTL:PT1H
BEGIN:VTIMEZONE
TZID:Europe/Paris
BEGIN:DAYLIGHT
TZOFFSETFROM:+0100
TZOFFSETTO:+0200
TZNAME:CEST
DTSTART:20230326T010000
END:DAYLIGHT
BEGIN:STANDARD
TZOFFSETFROM:+0200
TZOFFSETTO:+0100
TZNAME:CET
DTSTART:20231029T010000
END:STANDARD
END:VTIMEZONE
BEGIN:VEVENT
DTSTART;TZID=Europe/Paris:20231014T100000
DTEND;TZID=Europe/Paris:20231014T110000
DTSTAMP:20260421T012131
CREATED:20230914T142518Z
LAST-MODIFIED:20240109T112822Z
UID:3304-1697277600-1697281200@gift-school.fr
SUMMARY:🙏 Yoga des Minots
DESCRIPTION:Inscriptions auprès de Laura\, communications.giftschool@gmail.com ou de Léa\, lea.venier@gift-school.fr\nYoga en duo Parent/Enfant\n€25/atelier
URL:https://gift-school.fr/event/%f0%9f%99%8f-yoga-des-minots-avec-lea-2/
END:VEVENT
END:VCALENDAR