BEGIN:VCALENDAR
VERSION:2.0
PRODID:-//GIFT SCHOOL Ventabren, Pays d&#039;Aix-en-Provence - ECPv6.2.2//NONSGML v1.0//EN
CALSCALE:GREGORIAN
METHOD:PUBLISH
X-ORIGINAL-URL:https://gift-school.fr
X-WR-CALDESC:évènements pour GIFT SCHOOL Ventabren, Pays d&#039;Aix-en-Provence
REFRESH-INTERVAL;VALUE=DURATION:PT1H
X-Robots-Tag:noindex
X-PUBLISHED-TTL:PT1H
BEGIN:VTIMEZONE
TZID:Europe/Paris
BEGIN:DAYLIGHT
TZOFFSETFROM:+0100
TZOFFSETTO:+0200
TZNAME:CEST
DTSTART:20230326T010000
END:DAYLIGHT
BEGIN:STANDARD
TZOFFSETFROM:+0200
TZOFFSETTO:+0100
TZNAME:CET
DTSTART:20231029T010000
END:STANDARD
END:VTIMEZONE
BEGIN:VEVENT
DTSTART;VALUE=DATE:20230927
DTEND;VALUE=DATE:20230930
DTSTAMP:20260421T012131
CREATED:20230914T141318Z
LAST-MODIFIED:20230914T141318Z
UID:3293-1695772800-1696031999@gift-school.fr
SUMMARY:🚌 Classe Verte pour les élémentaires 🚌
DESCRIPTION:
URL:https://gift-school.fr/event/%f0%9f%9a%8c-classe-verte-pour-les-elementaires-%f0%9f%9a%8c/
CATEGORIES:Elémentaire
END:VEVENT
END:VCALENDAR